BEGIN:VCALENDAR
VERSION:2.0
PRODID:-//Pere Marquette Trout Unlimited - ECPv6.15.18//NONSGML v1.0//EN
CALSCALE:GREGORIAN
METHOD:PUBLISH
X-ORIGINAL-URL:https://www.pmtu.org
X-WR-CALDESC:Events for Pere Marquette Trout Unlimited
REFRESH-INTERVAL;VALUE=DURATION:PT1H
X-Robots-Tag:noindex
X-PUBLISHED-TTL:PT1H
BEGIN:VTIMEZONE
TZID:America/Detroit
BEGIN:DAYLIGHT
TZOFFSETFROM:-0500
TZOFFSETTO:-0400
TZNAME:EDT
DTSTART:20190310T070000
END:DAYLIGHT
BEGIN:STANDARD
TZOFFSETFROM:-0400
TZOFFSETTO:-0500
TZNAME:EST
DTSTART:20191103T060000
END:STANDARD
BEGIN:DAYLIGHT
TZOFFSETFROM:-0500
TZOFFSETTO:-0400
TZNAME:EDT
DTSTART:20200308T070000
END:DAYLIGHT
BEGIN:STANDARD
TZOFFSETFROM:-0400
TZOFFSETTO:-0500
TZNAME:EST
DTSTART:20201101T060000
END:STANDARD
BEGIN:DAYLIGHT
TZOFFSETFROM:-0500
TZOFFSETTO:-0400
TZNAME:EDT
DTSTART:20210314T070000
END:DAYLIGHT
BEGIN:STANDARD
TZOFFSETFROM:-0400
TZOFFSETTO:-0500
TZNAME:EST
DTSTART:20211107T060000
END:STANDARD
END:VTIMEZONE
BEGIN:VEVENT
DTSTART;TZID=America/Detroit:20200211T180000
DTEND;TZID=America/Detroit:20200211T200000
DTSTAMP:20260419T180347
CREATED:20200124T181558Z
LAST-MODIFIED:20200124T181558Z
UID:16248-1581444000-1581451200@www.pmtu.org
SUMMARY:Board Meeting - February 2020
DESCRIPTION:PMTU will hold its next board meeting at the Pere Marquette Lodge. All are welcome to attend.
URL:https://www.pmtu.org/event/board-meeting-february-2020/
LOCATION:Pere Marquette River Lodge\, 8841 S. M-37\, Baldwin\, MI\, 49304\, United States
CATEGORIES:Board Meeting
ORGANIZER;CN="Jason Dehning":MAILTO:jason.dehning@gmail.com
END:VEVENT
END:VCALENDAR