BEGIN:VCALENDAR
VERSION:2.0
PRODID:-//Pere Marquette Trout Unlimited - ECPv6.15.18//NONSGML v1.0//EN
CALSCALE:GREGORIAN
METHOD:PUBLISH
X-WR-CALNAME:Pere Marquette Trout Unlimited
X-ORIGINAL-URL:https://www.pmtu.org
X-WR-CALDESC:Events for Pere Marquette Trout Unlimited
REFRESH-INTERVAL;VALUE=DURATION:PT1H
X-Robots-Tag:noindex
X-PUBLISHED-TTL:PT1H
BEGIN:VTIMEZONE
TZID:America/Detroit
BEGIN:DAYLIGHT
TZOFFSETFROM:-0500
TZOFFSETTO:-0400
TZNAME:EDT
DTSTART:20180311T070000
END:DAYLIGHT
BEGIN:STANDARD
TZOFFSETFROM:-0400
TZOFFSETTO:-0500
TZNAME:EST
DTSTART:20181104T060000
END:STANDARD
BEGIN:DAYLIGHT
TZOFFSETFROM:-0500
TZOFFSETTO:-0400
TZNAME:EDT
DTSTART:20190310T070000
END:DAYLIGHT
BEGIN:STANDARD
TZOFFSETFROM:-0400
TZOFFSETTO:-0500
TZNAME:EST
DTSTART:20191103T060000
END:STANDARD
BEGIN:DAYLIGHT
TZOFFSETFROM:-0500
TZOFFSETTO:-0400
TZNAME:EDT
DTSTART:20200308T070000
END:DAYLIGHT
BEGIN:STANDARD
TZOFFSETFROM:-0400
TZOFFSETTO:-0500
TZNAME:EST
DTSTART:20201101T060000
END:STANDARD
END:VTIMEZONE
BEGIN:VEVENT
DTSTART;TZID=America/Detroit:20191210T180000
DTEND;TZID=America/Detroit:20191210T200000
DTSTAMP:20260419T205712
CREATED:20191202T163347Z
LAST-MODIFIED:20191202T163358Z
UID:16235-1576000800-1576008000@www.pmtu.org
SUMMARY:December 2019 Board Meeting
DESCRIPTION:1. Riverbank Restorations- Sean to Recap our progress\n2. Fund Raising for 2020- Where and when we will need help.\n3. Our 5th Annual Brown Bash Fundraiser- Come up with budget\n4. Books are mostly complete- I will have them for all to review-\n5. Christmas Sales = $$\n6. Stream Monitors- How are they working?\n7. New membership- new board members????
URL:https://www.pmtu.org/event/december-2019-board-meeting/
LOCATION:Pere Marquette River Lodge\, 8841 S. M-37\, Baldwin\, MI\, 49304\, United States
CATEGORIES:Board Meeting
ORGANIZER;CN="Jason Dehning":MAILTO:jason.dehning@gmail.com
END:VEVENT
END:VCALENDAR